BEGIN:VCALENDAR
VERSION:2.0
PRODID:-//IPD - ECPv6.15.13//NONSGML v1.0//EN
CALSCALE:GREGORIAN
METHOD:PUBLISH
X-WR-CALNAME:IPD
X-ORIGINAL-URL:https://www.ipd.sn
X-WR-CALDESC:Évènements pour IPD
REFRESH-INTERVAL;VALUE=DURATION:PT1H
X-Robots-Tag:noindex
X-PUBLISHED-TTL:PT1H
BEGIN:VTIMEZONE
TZID:Europe/Paris
BEGIN:DAYLIGHT
TZOFFSETFROM:+0100
TZOFFSETTO:+0200
TZNAME:CEST
DTSTART:20240331T010000
END:DAYLIGHT
BEGIN:STANDARD
TZOFFSETFROM:+0200
TZOFFSETTO:+0100
TZNAME:CET
DTSTART:20241027T010000
END:STANDARD
BEGIN:DAYLIGHT
TZOFFSETFROM:+0100
TZOFFSETTO:+0200
TZNAME:CEST
DTSTART:20250330T010000
END:DAYLIGHT
BEGIN:STANDARD
TZOFFSETFROM:+0200
TZOFFSETTO:+0100
TZNAME:CET
DTSTART:20251026T010000
END:STANDARD
BEGIN:DAYLIGHT
TZOFFSETFROM:+0100
TZOFFSETTO:+0200
TZNAME:CEST
DTSTART:20260329T010000
END:DAYLIGHT
BEGIN:STANDARD
TZOFFSETFROM:+0200
TZOFFSETTO:+0100
TZNAME:CET
DTSTART:20261025T010000
END:STANDARD
END:VTIMEZONE
BEGIN:VEVENT
DTSTART;TZID=Europe/Paris:20250619T150000
DTEND;TZID=Europe/Paris:20250621T230000
DTSTAMP:20260423T185304
CREATED:20250719T015531Z
LAST-MODIFIED:20251120T105952Z
UID:16396-1750345200-1750546800@www.ipd.sn
SUMMARY:Journées Vivre et étudier ensemble
DESCRIPTION:Rétrospective Complète : Les Trois Jours d’Événements Inoubliables à l’IPD\nLe Bureau Des Étudiants (BDE) de l’Institut Polytechnique de Dakar a organisé avec un succès retentissant trois journées complètes d’activités\, célébrant l’unité\, la diversité\, l’innovation et l’excellence académique. Retour détaillé sur le déroulement de cet événement mémorable : \nJour 1 : Jeudi – L’Explosion de la Fête des Couleurs\n\n			\n				\n			\n			\n				\n			\n			\n				\n			\n		\n\nJour 2 : Vendredi – Sport et Culture en Harmonie\n\n			\n				\n			\n			\n				\n			\n			\n				\n			\n			\n				\n			\n			\n				\n			\n			\n				\n			\n			\n				\n			\n			\n				\n			\n			\n				\n			\n		\n\nJour 3 : Samedi – Cérémonie Officielle\, Innovation et Nostalgie\n\n			\n				\n			\n			\n				\n			\n			\n				\n			\n			\n				\n			\n			\n				\n			\n			\n				\n			\n		\n\nPrésentation des projets des étudiants\n\n			\n				\n			\n			\n				\n			\n			\n				\n			\n			\n				\n			\n			\n				\n			\n			\n				\n			\n		\n\n Récompense des trois meilleurs projets\n\n			\n				\n			\n			\n				\n			\n			\n				\n			\n		\n\nDéfiler des différentes nationalités et ethnies\n\n\n\n  \nRecompense des meilleurs professeurs et des meilleurs etudiants
URL:https://www.ipd.sn/event/journees-vivre-et-etudier-ensembles/
LOCATION:ipd\, N°8477\, Sud-Foire Dakar\, Près du SAMU Municipal\, Dakar\, Dakar\, Senegal
ATTACH;FMTTYPE=image/jpeg:https://www.ipd.sn/wp-content/uploads/2025/09/WhatsApp-Image-2025-07-10-at-17.02.26.jpeg
ORGANIZER;CN="BDE":MAILTO:admin@lequotidiendakarois.com
END:VEVENT
BEGIN:VEVENT
DTSTART;TZID=Europe/Paris:20250322T100000
DTEND;TZID=Europe/Paris:20250322T200000
DTSTAMP:20260423T185304
CREATED:20251030T020952Z
LAST-MODIFIED:20251110T214745Z
UID:16393-1742637600-1742673600@www.ipd.sn
SUMMARY:Uni Humanity : Le BDE et les étudiants unis pour la solidarité (Ndôgou)
DESCRIPTION:Le BDE de l’IPD s’est joint à l’initiative humanitaire “Ndôgou Uni Humanity”\, un mouvement qui rassemble les étudiants unis par la solidarité pour une cause noble. \n  \nCette action d’envergure\, menée le Samedi 22 Mars 2025 \n\n			\n				\n			\n			\n				\n			\n			\n				\n			\n			\n				\n			\n			\n				\n			\n			\n				\n			\n			\n				\n			\n			\n				\n			\n			\n				\n			\n			\n				\n			\n			\n				\n			\n			\n				\n			\n			\n				\n			\n			\n				\n			\n			\n				\n			\n		\n\n\, avait pour principales missions : \n  \n1. Distribution de Ndôgou : Offrir des repas pour la rupture du jeûne aux personnes dans le besoin. \n  \n2. Distribution de Kits Coran. \n  \nCette initiative humanitaire a mobilisé les étudiants de plusieurs instituts dans un esprit de partage exceptionnel\, avec un objectif de 7.000 Ndôgou à partager notamment sur le site de Clac\, Liberté 4. \n  \nLe Ndôgou Uni Humanity a permis de collecter et distribuer des denrées et des kits Coran\, soulignant l’engagement du BDE à promouvoir l’action humanitaire et la solidarité sociale auprès de la jeunesse.
URL:https://www.ipd.sn/event/uni-humanity-le-bde-et-les-etudiants-unis-pour-la-solidarite-ndogou/
LOCATION:ipd\, N°8477\, Sud-Foire Dakar\, Près du SAMU Municipal\, Dakar\, Dakar\, Senegal
ATTACH;FMTTYPE=image/jpeg:https://www.ipd.sn/wp-content/uploads/2025/10/IMG-20251110-WA0053.jpg
ORGANIZER;CN="BDE":MAILTO:admin@lequotidiendakarois.com
END:VEVENT
BEGIN:VEVENT
DTSTART;TZID=Europe/Paris:20250319T080000
DTEND;TZID=Europe/Paris:20250319T203000
DTSTAMP:20260423T185304
CREATED:20251030T020009Z
LAST-MODIFIED:20251113T145937Z
UID:16390-1742371200-1742416200@www.ipd.sn
SUMMARY:🍽️ Ndôgou Social des Sankariens : Partage et Convivialité à l'IPD
DESCRIPTION:Ndôgou Social des Sankariens : Partage et Convivialité à l’IPD\n\n\n\nEn cette période bénie du Ramadan\, placée sous le signe du partage\, d’amour\, de bénédiction et de prières\, le Bureau Des Étudiants (BDE) de l’IPD a organisé un NDOGOU SOCIAL mémorable le Mercredi 19 Mars 2025. Ce rassemblement a offert un véritable moment de convivialité et de retrouvailles pour tous. \nCe rassemblement chaleureux a permis aux étudiants de se réunir autour d’un repas préparé avec soin\, favorisant les échanges et renforçant les liens au sein de la communauté. Le bon humeur était omniprésent\, et chacun a contribué à créer une ambiance festive. \nL’événement a vu la participation de l’ensemble des étudiants de l’Institut (musulmans tout comme chrétiens)\, des professeurs\, ainsi que du personnel administratif\, qui ont été servis par de délicieux plats préparés par les étudiants eux-mêmes. \nNous tenons à adresser des mentions spéciales à Fatousha pour les Thiakry et les Sandwichs\, ainsi qu’à Marème Djitté pour les Jus et les Plateaux sucrés et salés\, qui ont marqué cette journée d’un esprit de solidarité palpable. \nQuelques chiffres du Ndôgou : \n* 600 sandwichs \n* 500 pots de Thiakry \n* 600 bouteilles de Jus \n* 600 bouteilles d’eau \nUn grand merci à tous ceux qui ont participé et rendu cet événement inoubliable !
URL:https://www.ipd.sn/event/%f0%9f%8d%bd%ef%b8%8f-ndogou-social-des-sankariens-partage-et-convivialite-a-lipd/
LOCATION:ipd\, N°8477\, Sud-Foire Dakar\, Près du SAMU Municipal\, Dakar\, Dakar\, Senegal
ATTACH;FMTTYPE=image/jpeg:https://www.ipd.sn/wp-content/uploads/2025/10/IMG-20251110-WA0077.jpg
END:VEVENT
BEGIN:VEVENT
DTSTART;TZID=Europe/Paris:20250217T080000
DTEND;TZID=Europe/Paris:20250217T150000
DTSTAMP:20260423T185304
CREATED:20251030T011937Z
LAST-MODIFIED:20251118T153033Z
UID:16377-1739779200-1739804400@www.ipd.sn
SUMMARY:DON DE SANG
DESCRIPTION:Opération Don de Sang Réussie : L’IPD Collecte 100 Poches pour Sauver des Vies\nL’Institut Polytechnique de Dakar (IPD) a une fois de plus démontré son engagement citoyen et sa solidarité.Le Bureau Des Étudiants (BDE) de l’IPD\, en étroite collaboration avec le Centre National de Transfusion Sanguine (CNTS)\, a organisé avec succès une journée de Don de Sang le Mercredi 19 Février 2025 dans les locaux de l’Institut. Cette opération est un maillon essentiel dans la mise en œuvre de la politique nationale de transfusion sanguine.Le don de sang est un acte volontaire\, bénévole et non rémunéré qui joue un rôle crucial dans la survie des patients. La générosité des donneurs de l’IPD est indispensable\, et les étudiants s’engagent à pérenniser cette initiative vitale.
URL:https://www.ipd.sn/event/don-de-sang/
LOCATION:ipd\, N°8477\, Sud-Foire Dakar\, Près du SAMU Municipal\, Dakar\, Dakar\, Senegal
ATTACH;FMTTYPE=image/jpeg:https://www.ipd.sn/wp-content/uploads/2025/10/IMG-20251106-WA0039.jpg
ORGANIZER;CN="BDE":MAILTO:admin@lequotidiendakarois.com
END:VEVENT
END:VCALENDAR